BEGIN:VCALENDAR
VERSION:2.0
PRODID:-//High Performance Golf Institute - ECPv6.15.20//NONSGML v1.0//EN
CALSCALE:GREGORIAN
METHOD:PUBLISH
X-WR-CALNAME:High Performance Golf Institute
X-ORIGINAL-URL:https://highperformancegolf.com
X-WR-CALDESC:Events for High Performance Golf Institute
REFRESH-INTERVAL;VALUE=DURATION:PT1H
X-Robots-Tag:noindex
X-PUBLISHED-TTL:PT1H
BEGIN:VTIMEZONE
TZID:UTC
BEGIN:STANDARD
TZOFFSETFROM:+0000
TZOFFSETTO:+0000
TZNAME:UTC
DTSTART:20250101T000000
END:STANDARD
END:VTIMEZONE
BEGIN:VEVENT
DTSTART;TZID=UTC:20260404T090000
DTEND;TZID=UTC:20260404T140000
DTSTAMP:20260425T181140
CREATED:20260313T191936Z
LAST-MODIFIED:20260326T151416Z
UID:1772-1775293200-1775311200@highperformancegolf.com
SUMMARY:TAYLORMADE CLUB FITTING DAY - Saturday\, April 4th  Reflection Bay Golf Club
DESCRIPTION:JOIN US ON SATURDAY\, APRIL 4TH\, FROM 9:00 AM – 2:00 PM.\nEXPERIENCE THE LATEST IN TAYLORMADE EQUIPMENT! \nREGISTER HERE \n 
URL:https://highperformancegolf.com/event/taylormade-club-fitting-saturday-april-4th-reflection-bay-golf-club/
LOCATION:High Performance Golf Institute\, 101 Via Vin Santo\, Henderson\, Nevada\, 89011
CATEGORIES:HIGH PERFORMANCE GOLF INSTITUTE,REFLECTION BAY GOLF CLUB,TAYLORMADE GOLF
ATTACH;FMTTYPE=image/png:https://highperformancegolf.com/wp-content/uploads/2026/03/Screenshot-2026-03-13-at-12.16.51-PM.png
END:VEVENT
BEGIN:VEVENT
DTSTART;TZID=UTC:20260404T090000
DTEND;TZID=UTC:20260404T140000
DTSTAMP:20260425T181140
CREATED:20260317T145046Z
LAST-MODIFIED:20260326T151324Z
UID:1786-1775293200-1775311200@highperformancegolf.com
SUMMARY:PING CLUB FITTING DAY - Saturday\, April 4th  Reflection Bay Golf Club
DESCRIPTION:JOIN US ON SATURDAY\, APRIL 4TH\, 9:00 AM – 2:00 PM AT REFLECTION BAY FOR THE PING CLUB FITTING DAY!\nEXPERIENCE THE LATEST GOLF EQUIPMENT FROM PING!  \nREGISTER HERE
URL:https://highperformancegolf.com/event/ping-club-fitting-day-saturday-april-4th-reflection-bay-golf-club/
LOCATION:High Performance Golf Institute\, 101 Via Vin Santo\, Henderson\, Nevada\, 89011
CATEGORIES:HIGH PERFORMANCE GOLF INSTITUTE,PING GOLF,REFLECTION BAY GOLF CLUB
ATTACH;FMTTYPE=image/jpeg:https://highperformancegolf.com/wp-content/uploads/2026/03/fitting-flag-400x300-1.jpg
END:VEVENT
END:VCALENDAR