BEGIN:VCALENDAR
VERSION:2.0
PRODID:-//High Performance Golf Institute - ECPv6.15.20//NONSGML v1.0//EN
CALSCALE:GREGORIAN
METHOD:PUBLISH
X-ORIGINAL-URL:https://highperformancegolf.com
X-WR-CALDESC:Events for High Performance Golf Institute
REFRESH-INTERVAL;VALUE=DURATION:PT1H
X-Robots-Tag:noindex
X-PUBLISHED-TTL:PT1H
BEGIN:VTIMEZONE
TZID:UTC
BEGIN:STANDARD
TZOFFSETFROM:+0000
TZOFFSETTO:+0000
TZNAME:UTC
DTSTART:20250101T000000
END:STANDARD
END:VTIMEZONE
BEGIN:VEVENT
DTSTART;TZID=UTC:20260425T090000
DTEND;TZID=UTC:20260425T140000
DTSTAMP:20260425T181033
CREATED:20260313T174121Z
LAST-MODIFIED:20260414T143555Z
UID:1769-1777107600-1777125600@highperformancegolf.com
SUMMARY:CALLAWAY CLUB FITTING DAY - Saturday\, April 25th  Reflection Bay Golf Club
DESCRIPTION:JOIN US ON SATURDAY\, APRIL 25TH\, 2026\, FROM 9:00 AM – 2:00 PM AT REFLECTION BAY GOLF CLUB! \nEXPERIENCE THE NEW LINE OF CALLAWAY QUANTUM TRI-FORCE DRIVER AND WOODS\, ALONG WITH THEIR NEW FULL LINE OF IRONS! \nREGISTER HERE
URL:https://highperformancegolf.com/event/callaway-club-fitting-day-saturday-april-25th-reflection-bay-golf-club/
LOCATION:High Performance Golf Institute\, 101 Via Vin Santo\, Henderson\, Nevada\, 89011
CATEGORIES:CALLAWAY GOLF,HIGH PERFORMANCE GOLF INSTITUTE,REFLECTION BAY GOLF CLUB
ATTACH;FMTTYPE=image/png:https://highperformancegolf.com/wp-content/uploads/2026/03/Reflection-Bay-Golf-Course-EventPoster-scaled.png
END:VEVENT
END:VCALENDAR