BEGIN:VCALENDAR
VERSION:2.0
PRODID:-//High Performance Golf Institute - ECPv6.15.20//NONSGML v1.0//EN
CALSCALE:GREGORIAN
METHOD:PUBLISH
X-ORIGINAL-URL:https://highperformancegolf.com
X-WR-CALDESC:Events for High Performance Golf Institute
REFRESH-INTERVAL;VALUE=DURATION:PT1H
X-Robots-Tag:noindex
X-PUBLISHED-TTL:PT1H
BEGIN:VTIMEZONE
TZID:UTC
BEGIN:STANDARD
TZOFFSETFROM:+0000
TZOFFSETTO:+0000
TZNAME:UTC
DTSTART:20250101T000000
END:STANDARD
END:VTIMEZONE
BEGIN:VEVENT
DTSTART;TZID=UTC:20260418T090000
DTEND;TZID=UTC:20260418T140000
DTSTAMP:20260425T145358
CREATED:20260313T173653Z
LAST-MODIFIED:20260414T143405Z
UID:1767-1776502800-1776520800@highperformancegolf.com
SUMMARY:COBRA CLUB FITTING DAY - Saturday\, April 18th  Reflection Bay
DESCRIPTION:JOIN US ON SATURDAY\, APRIL 18TH\, 2026\, TO SEE THE NEW LINE OF COBRA PRODUCTS\, INCLUDING THE OPTM LINE OF DRIVERS AND WOODS! \n9:00 AM – 2:00 PM \nREGISTER HERE
URL:https://highperformancegolf.com/event/cobra-club-fitting-day-saturday-april-18th-reflection-bay/
LOCATION:High Performance Golf Institute\, 101 Via Vin Santo\, Henderson\, Nevada\, 89011
CATEGORIES:COBRA GOLF,HIGH PERFORMANCE GOLF INSTITUTE
ATTACH;FMTTYPE=image/png:https://highperformancegolf.com/wp-content/uploads/2026/01/Screenshot-2026-01-19-at-6.37.23-PM.png
END:VEVENT
BEGIN:VEVENT
DTSTART;TZID=UTC:20260418T090000
DTEND;TZID=UTC:20260418T140000
DTSTAMP:20260425T145358
CREATED:20260318T163424Z
LAST-MODIFIED:20260414T143451Z
UID:1789-1776502800-1776520800@highperformancegolf.com
SUMMARY:TITLEIST CLUB FITTING DAY - Saturday\, April 18th  Reflection Bay Golf Club
DESCRIPTION:JOIN US ON SATURDAY\, APRIL 18TH\, FROM 9:00 AM – 2:00 PM AT REFLECTION BAY FOR THE TITLEIST CLUB FITTING DAY!\nEXPERIENCE THE LATEST GOLF EQUIPMENT FROM TITLEIST! \nREGISTER HERE \n 
URL:https://highperformancegolf.com/event/titleist-club-fitting-day-saturday-april-18th-reflection-bay-golf-club/
LOCATION:High Performance Golf Institute\, 101 Via Vin Santo\, Henderson\, Nevada\, 89011
CATEGORIES:HIGH PERFORMANCE GOLF INSTITUTE,REFLECTION BAY GOLF CLUB,TITLEIST GOLF
ATTACH;FMTTYPE=image/png:https://highperformancegolf.com/wp-content/uploads/2026/03/Screenshot-2026-03-18-at-9.32.39-AM.png
END:VEVENT
END:VCALENDAR